BEGIN:VCALENDAR
VERSION:2.0
PRODID:spatie/icalendar-generator
DESCRIPTION:Events from Town of Monroe
X-WR-CALDESC:Events from Town of Monroe
REFRESH-INTERVAL;VALUE=DURATION:PT1440M
X-PUBLISHED-TTL:PT1440M
BEGIN:VTIMEZONE
TZID:America/Chicago
BEGIN:STANDARD
DTSTART:20251102T020000Z
TZOFFSETFROM:-0500
TZOFFSETTO:-0600
END:STANDARD
BEGIN:DAYLIGHT
DTSTART:20260308T020000Z
TZOFFSETFROM:-0600
TZOFFSETTO:-0500
END:DAYLIGHT
END:VTIMEZONE
BEGIN:VTIMEZONE
TZID:UTC
BEGIN:STANDARD
DTSTART:20250725T141442Z
TZOFFSETFROM:+0000
TZOFFSETTO:+0000
END:STANDARD
END:VTIMEZONE
BEGIN:VEVENT
UID:341-119
DTSTAMP:20260421T141442Z
SUMMARY:MRFD Meeting
LOCATION:Monroe Rural Fire Department 840 W 8th Street  Monroe WI 53566
ORGANIZER;CN=Town of Monroe:MAILTO:tompurdy@fusionflywebdesign.com
DTSTART;TZID=America/Chicago:20260415T180000
DTEND;TZID=America/Chicago:20260415T183000
X-ALT-DESC;FMTTYPE=TEXT/HTML:
CATEGORIES:Meetings
URL;VALUE=URI:https://townofmonroewi.gov/events/?mc_id=341&#038;vcal=341
METHOD:PUBLISH
END:VEVENT
END:VCALENDAR